BEGIN:VCALENDAR
VERSION:2.0
PRODID:-//Mark C. Perna - ECPv6.6.4.2//NONSGML v1.0//EN
CALSCALE:GREGORIAN
METHOD:PUBLISH
X-ORIGINAL-URL:https://markcperna.com
X-WR-CALDESC:Events for Mark C. Perna
REFRESH-INTERVAL;VALUE=DURATION:PT1H
X-Robots-Tag:noindex
X-PUBLISHED-TTL:PT1H
BEGIN:VTIMEZONE
TZID:America/Los_Angeles
BEGIN:DAYLIGHT
TZOFFSETFROM:-0800
TZOFFSETTO:-0700
TZNAME:PDT
DTSTART:20260308T100000
END:DAYLIGHT
BEGIN:STANDARD
TZOFFSETFROM:-0700
TZOFFSETTO:-0800
TZNAME:PST
DTSTART:20261101T090000
END:STANDARD
END:VTIMEZONE
BEGIN:VEVENT
DTSTART;TZID=America/Los_Angeles:20260511T080000
DTEND;TZID=America/Los_Angeles:20260511T170000
DTSTAMP:20260422T152832
CREATED:20260320T201058Z
LAST-MODIFIED:20260320T201058Z
UID:16181-1778486400-1778518800@markcperna.com
SUMMARY:Louisiana Central Rally Your Region Event
DESCRIPTION:
URL:https://markcperna.com/event/louisiana-central-rally-your-region-event/
LOCATION:Alexandria\, LA: Rapides Parish Admin & Counselor Keynote
CATEGORIES:Keynote Address
END:VEVENT
BEGIN:VEVENT
DTSTART;TZID=America/Los_Angeles:20260511T080000
DTEND;TZID=America/Los_Angeles:20260511T170000
DTSTAMP:20260422T152832
CREATED:20260320T201126Z
LAST-MODIFIED:20260320T201126Z
UID:16184-1778486400-1778518800@markcperna.com
SUMMARY:Louisiana Central Rally Your Region Event
DESCRIPTION:
URL:https://markcperna.com/event/louisiana-central-rally-your-region-event-2/
LOCATION:Alexandria\, LA: Regional Admin & Counselor Keynote
CATEGORIES:Keynote Address
END:VEVENT
END:VCALENDAR