BEGIN:VCALENDAR
VERSION:2.0
PRODID:-//Mark C. Perna - ECPv6.6.4.2//NONSGML v1.0//EN
CALSCALE:GREGORIAN
METHOD:PUBLISH
X-ORIGINAL-URL:https://markcperna.com
X-WR-CALDESC:Events for Mark C. Perna
REFRESH-INTERVAL;VALUE=DURATION:PT1H
X-Robots-Tag:noindex
X-PUBLISHED-TTL:PT1H
BEGIN:VTIMEZONE
TZID:America/Los_Angeles
BEGIN:DAYLIGHT
TZOFFSETFROM:-0800
TZOFFSETTO:-0700
TZNAME:PDT
DTSTART:20260308T100000
END:DAYLIGHT
BEGIN:STANDARD
TZOFFSETFROM:-0700
TZOFFSETTO:-0800
TZNAME:PST
DTSTART:20261101T090000
END:STANDARD
END:VTIMEZONE
BEGIN:VEVENT
DTSTART;TZID=America/Los_Angeles:20260427T080000
DTEND;TZID=America/Los_Angeles:20260427T170000
DTSTAMP:20260422T043509
CREATED:20250923T211653Z
LAST-MODIFIED:20260129T135542Z
UID:15751-1777276800-1777309200@markcperna.com
SUMMARY:Bay College - Iron Mountain Campus
DESCRIPTION:
URL:https://markcperna.com/event/bay-college-2/
LOCATION:Escanaba\, MI: Business/Industry/Superintendent Keynote
CATEGORIES:Keynote Address
END:VEVENT
BEGIN:VEVENT
DTSTART;TZID=America/Los_Angeles:20260427T080000
DTEND;TZID=America/Los_Angeles:20260427T170000
DTSTAMP:20260422T043509
CREATED:20260206T213433Z
LAST-MODIFIED:20260206T213433Z
UID:16009-1777276800-1777309200@markcperna.com
SUMMARY:Bay College – Iron Mountain Campus
DESCRIPTION:
URL:https://markcperna.com/event/bay-college-iron-mountain-campus/
LOCATION:Escanaba\, MI: CTE Student Keynote
CATEGORIES:Keynote Address
END:VEVENT
END:VCALENDAR