BEGIN:VCALENDAR
VERSION:2.0
PRODID:-//Mark C. Perna - ECPv6.6.4.2//NONSGML v1.0//EN
CALSCALE:GREGORIAN
METHOD:PUBLISH
X-ORIGINAL-URL:https://markcperna.com
X-WR-CALDESC:Events for Mark C. Perna
REFRESH-INTERVAL;VALUE=DURATION:PT1H
X-Robots-Tag:noindex
X-PUBLISHED-TTL:PT1H
BEGIN:VTIMEZONE
TZID:America/Los_Angeles
BEGIN:DAYLIGHT
TZOFFSETFROM:-0800
TZOFFSETTO:-0700
TZNAME:PDT
DTSTART:20260308T100000
END:DAYLIGHT
BEGIN:STANDARD
TZOFFSETFROM:-0700
TZOFFSETTO:-0800
TZNAME:PST
DTSTART:20261101T090000
END:STANDARD
END:VTIMEZONE
BEGIN:VEVENT
DTSTART;TZID=America/Los_Angeles:20260506T080000
DTEND;TZID=America/Los_Angeles:20260506T170000
DTSTAMP:20260421T095013
CREATED:20251017T183527Z
LAST-MODIFIED:20251017T183527Z
UID:15807-1778054400-1778086800@markcperna.com
SUMMARY:SME Fusion: The Manufacturing Workforce Event
DESCRIPTION:
URL:https://markcperna.com/event/sme-fusion-the-manufacturing-workforce-event-2/
LOCATION:Nashville\, TN: Concurrent Session Deep Dive
CATEGORIES:Deep Dive Session
END:VEVENT
END:VCALENDAR