BEGIN:VCALENDAR
VERSION:2.0
PRODID:-//Mark C. Perna - ECPv6.6.4.2//NONSGML v1.0//EN
CALSCALE:GREGORIAN
METHOD:PUBLISH
X-ORIGINAL-URL:https://markcperna.com
X-WR-CALDESC:Events for Mark C. Perna
REFRESH-INTERVAL;VALUE=DURATION:PT1H
X-Robots-Tag:noindex
X-PUBLISHED-TTL:PT1H
BEGIN:VTIMEZONE
TZID:America/Los_Angeles
BEGIN:DAYLIGHT
TZOFFSETFROM:-0800
TZOFFSETTO:-0700
TZNAME:PDT
DTSTART:20260308T100000
END:DAYLIGHT
BEGIN:STANDARD
TZOFFSETFROM:-0700
TZOFFSETTO:-0800
TZNAME:PST
DTSTART:20261101T090000
END:STANDARD
END:VTIMEZONE
BEGIN:VEVENT
DTSTART;TZID=America/Los_Angeles:20260402T080000
DTEND;TZID=America/Los_Angeles:20260402T170000
DTSTAMP:20260422T044917
CREATED:20251031T210020Z
LAST-MODIFIED:20251031T210020Z
UID:15837-1775116800-1775149200@markcperna.com
SUMMARY:Workforce Summit: CT Office Of Workforce Strategy Summit
DESCRIPTION:
URL:https://markcperna.com/event/workforce-summit-ct-office-of-workforce-strategy-summit/
LOCATION:Hartford\, CT: Breakout Session
CATEGORIES:Breakout Session
END:VEVENT
END:VCALENDAR