BEGIN:VCALENDAR
VERSION:2.0
PRODID:-//Mark C. Perna - ECPv6.6.4.2//NONSGML v1.0//EN
CALSCALE:GREGORIAN
METHOD:PUBLISH
X-ORIGINAL-URL:https://markcperna.com
X-WR-CALDESC:Events for Mark C. Perna
REFRESH-INTERVAL;VALUE=DURATION:PT1H
X-Robots-Tag:noindex
X-PUBLISHED-TTL:PT1H
BEGIN:VTIMEZONE
TZID:America/Los_Angeles
BEGIN:DAYLIGHT
TZOFFSETFROM:-0800
TZOFFSETTO:-0700
TZNAME:PDT
DTSTART:20250309T100000
END:DAYLIGHT
BEGIN:STANDARD
TZOFFSETFROM:-0700
TZOFFSETTO:-0800
TZNAME:PST
DTSTART:20251102T090000
END:STANDARD
END:VTIMEZONE
BEGIN:VEVENT
DTSTART;TZID=America/Los_Angeles:20250116T080000
DTEND;TZID=America/Los_Angeles:20250116T170000
DTSTAMP:20260425T063205
CREATED:20240724T210727Z
LAST-MODIFIED:20240724T210727Z
UID:14491-1737014400-1737046800@markcperna.com
SUMMARY:Lyft Career Pathways Regional Conference
DESCRIPTION:
URL:https://markcperna.com/event/lyft-career-pathways-regional-conference/
LOCATION:Redwood Falls\, MN: Keynote Address
CATEGORIES:Keynote Address
END:VEVENT
END:VCALENDAR